BEGIN:VCALENDAR
VERSION:2.0
PRODID:-//West Indies Baptist Fellowship Conference - ECPv6.15.20//NONSGML v1.0//EN
CALSCALE:GREGORIAN
METHOD:PUBLISH
X-ORIGINAL-URL:https://www.wibfc.org
X-WR-CALDESC:Events for West Indies Baptist Fellowship Conference
REFRESH-INTERVAL;VALUE=DURATION:PT1H
X-Robots-Tag:noindex
X-PUBLISHED-TTL:PT1H
BEGIN:VTIMEZONE
TZID:UTC
BEGIN:STANDARD
TZOFFSETFROM:+0000
TZOFFSETTO:+0000
TZNAME:UTC
DTSTART:20250101T000000
END:STANDARD
END:VTIMEZONE
BEGIN:VEVENT
DTSTART;TZID=UTC:20260727T190000
DTEND;TZID=UTC:20260731T210000
DTSTAMP:20260420T090701
CREATED:20260417T072811Z
LAST-MODIFIED:20260418T030304Z
UID:967-1785178800-1785531600@www.wibfc.org
SUMMARY:WIBF Conference 2026
DESCRIPTION:WIBF Conference 2026\nJuly 24–31\, 2026 | 9:00 AM – 12:00 PM | 7:00 AM – 9:00 PMFt. Lauderdale\, FL \nThe WIBF Conference is a five-day online gathering focused on equipping pastors\, ministry leaders\, and church members with biblical insight\, practical leadership strategies\, and spiritual encouragement. \nThis event provides structured teaching sessions\, keynote preaching\, leadership workshops\, and interactive discussions designed to strengthen churches and develop effective ministry leaders. \nWhat to Expect:\n\nDynamic keynote speakers\nLeadership development sessions\nMinistry-focused breakout classes\nBiblical teaching and practical application\nSpiritual encouragement and fellowship
URL:https://www.wibfc.org/event/wibf-conference-2026/
LOCATION:Ft. Lauderdale\, FL\, Ft. Lauderdale\, FL\, United States
ATTACH;FMTTYPE=image/jpeg:https://www.wibfc.org/wp-content/uploads/2026/02/13925958272_53a5c8089a_o.jpg
END:VEVENT
END:VCALENDAR